﻿BEGIN:VCALENDAR
VERSION:2.0
PRODID:-//eventon.com NONSGML v1.0//EN
BEGIN:VEVENT
UID:69ea162396460
DTSTAMP:20260423T125251
DTSTART:20260425T180000Z
DTEND:20260425T190000Z
LOCATION:
SUMMARY:bobo - sala la tramoia - Elche
DESCRIPTION: bobo - sala la tramoia - Elche
END:VEVENT
END:VCALENDAR