﻿BEGIN:VCALENDAR
VERSION:2.0
PRODID:-//eventon.com NONSGML v1.0//EN
BEGIN:VEVENT
UID:69ea16e33dd7b
DTSTAMP:20260423T125603
DTSTART:20260427T100000Z
DTEND:20260427T110000Z
LOCATION:
SUMMARY:vuelapluma - Ourense - Campaña de Teatro Escolar
DESCRIPTION: vuelapluma - Ourense - Campaña de Teatro Escolar
END:VEVENT
END:VCALENDAR