﻿BEGIN:VCALENDAR
VERSION:2.0
PRODID:-//eventon.com NONSGML v1.0//EN
BEGIN:VEVENT
UID:69ea17610dc07
DTSTAMP:20260423T125809
DTSTART:20260429T100000Z
DTEND:20260429T110000Z
LOCATION:
SUMMARY:vuelapluma - Ferrol - Galicia - Campaña de Teatro Escolar
DESCRIPTION: vuelapluma - Ferrol - Galicia - Campaña de Teatro Escolar
END:VEVENT
END:VCALENDAR