﻿BEGIN:VCALENDAR
VERSION:2.0
PRODID:-//eventon.com NONSGML v1.0//EN
BEGIN:VEVENT
UID:69ea1757df2e9
DTSTAMP:20260423T125759
DTSTART:20260429T120000Z
DTEND:20260429T130000Z
LOCATION:
SUMMARY:vuelapluma - Ferrol - Galicia - Campaña de Teatro Escolar
DESCRIPTION: vuelapluma - Ferrol - Galicia - Campaña de Teatro Escolar
END:VEVENT
END:VCALENDAR