﻿BEGIN:VCALENDAR
VERSION:2.0
PRODID:-//eventon.com NONSGML v1.0//EN
BEGIN:VEVENT
UID:69ea17003a6e3
DTSTAMP:20260423T125632
DTSTART:20260504T120000Z
DTEND:20260504T130000Z
LOCATION:
SUMMARY:vuelapluma - Vigo - Campaña de Teatro Escolar
DESCRIPTION: vuelapluma - Vigo - Campaña de Teatro Escolar
END:VEVENT
END:VCALENDAR