﻿BEGIN:VCALENDAR
VERSION:2.0
PRODID:-//eventon.com NONSGML v1.0//EN
BEGIN:VEVENT
UID:69ea162463a43
DTSTAMP:20260423T125252
DTSTART:20260513T100000Z
DTEND:20260513T110000Z
LOCATION:
SUMMARY:vuelapluma - Santiago de Compostela - Campaña de Teatro Escolar
DESCRIPTION: vuelapluma - Santiago de Compostela - Campaña de Teatro Escolar
END:VEVENT
END:VCALENDAR