﻿BEGIN:VCALENDAR
VERSION:2.0
PRODID:-//eventon.com NONSGML v1.0//EN
BEGIN:VEVENT
UID:69ea16eae3714
DTSTAMP:20260423T125610
DTSTART:20260513T120000Z
DTEND:20260513T130000Z
LOCATION:
SUMMARY:vuelapluma - Santiago de Compostela - Campaña de Teatro Escolar
DESCRIPTION: vuelapluma - Santiago de Compostela - Campaña de Teatro Escolar
END:VEVENT
END:VCALENDAR