﻿BEGIN:VCALENDAR
VERSION:2.0
PRODID:-//eventon.com NONSGML v1.0//EN
BEGIN:VEVENT
UID:69ea15b3c07b7
DTSTAMP:20260423T125059
DTSTART:20260514T120000Z
DTEND:20260514T130000Z
LOCATION:
SUMMARY:vuelapluma - A Coruña - Campaña de Teatro Escolar
DESCRIPTION: vuelapluma - A Coruña - Campaña de Teatro Escolar
END:VEVENT
END:VCALENDAR