﻿BEGIN:VCALENDAR
VERSION:2.0
PRODID:-//eventon.com NONSGML v1.0//EN
BEGIN:VEVENT
UID:69ea15eacce07
DTSTAMP:20260423T125154
DTSTART:20260517T120000Z
DTEND:20260517T130000Z
LOCATION:
SUMMARY:BoBo - Teatro Arniches - Alicante
DESCRIPTION: BoBo - Teatro Arniches - Alicante
END:VEVENT
END:VCALENDAR