﻿BEGIN:VCALENDAR
VERSION:2.0
PRODID:-//eventon.com NONSGML v1.0//EN
BEGIN:VEVENT
UID:69ea16dddd176
DTSTAMP:20260423T125557
DTSTART:20260423T103000Z
DTEND:20260423T113000Z
LOCATION:
SUMMARY:bobo - sala la tramoia - Elche - campaña de teatro escolar
DESCRIPTION: bobo - sala la tramoia - Elche - campaña de teatro escolar
END:VEVENT
END:VCALENDAR