﻿BEGIN:VCALENDAR
VERSION:2.0
PRODID:-//eventon.com NONSGML v1.0//EN
BEGIN:VEVENT
UID:69ea166f2af71
DTSTAMP:20260423T125407
DTSTART:20260424T103000Z
DTEND:20260424T113000Z
LOCATION:
SUMMARY:bobo - sala la tramoia - Elche - campaña de teatro escolar
DESCRIPTION: bobo - sala la tramoia - Elche - campaña de teatro escolar
END:VEVENT
END:VCALENDAR