﻿BEGIN:VCALENDAR
VERSION:2.0
PRODID:-//eventon.com NONSGML v1.0//EN
BEGIN:VEVENT
UID:69ea15f4b8903
DTSTAMP:20260423T125204
DTSTART:20260428T100000Z
DTEND:20260428T110000Z
LOCATION:
SUMMARY:vuelapluma - Ourense - Campaña de Teatro Escolar
DESCRIPTION: vuelapluma - Ourense - Campaña de Teatro Escolar
END:VEVENT
END:VCALENDAR