﻿BEGIN:VCALENDAR
VERSION:2.0
PRODID:-//eventon.com NONSGML v1.0//EN
BEGIN:VEVENT
UID:69ea163500511
DTSTAMP:20260423T125309
DTSTART:20260428T120000Z
DTEND:20260428T130000Z
LOCATION:
SUMMARY:vuelapluma - Ourense - Campaña de Teatro Escolar
DESCRIPTION: vuelapluma - Ourense - Campaña de Teatro Escolar
END:VEVENT
END:VCALENDAR