﻿BEGIN:VCALENDAR
VERSION:2.0
PRODID:-//eventon.com NONSGML v1.0//EN
BEGIN:VEVENT
UID:69ea15b33aa41
DTSTAMP:20260423T125059
DTSTART:20260430T100000Z
DTEND:20260430T110000Z
LOCATION:
SUMMARY:vuelapluma - Ferrol - Galicia - Campaña de Teatro Escolar
DESCRIPTION: vuelapluma - Ferrol - Galicia - Campaña de Teatro Escolar
END:VEVENT
END:VCALENDAR