﻿BEGIN:VCALENDAR
VERSION:2.0
PRODID:-//eventon.com NONSGML v1.0//EN
BEGIN:VEVENT
UID:69ea15ea4cf6e
DTSTAMP:20260423T125154
DTSTART:20260430T120000Z
DTEND:20260430T130000Z
LOCATION:
SUMMARY:vuelapluma - Ferrol - Galicia - Campaña de Teatro Escolar
DESCRIPTION: vuelapluma - Ferrol - Galicia - Campaña de Teatro Escolar
END:VEVENT
END:VCALENDAR