﻿BEGIN:VCALENDAR
VERSION:2.0
PRODID:-//eventon.com NONSGML v1.0//EN
BEGIN:VEVENT
UID:69ea15f5372c9
DTSTAMP:20260423T125205
DTSTART:20260505T100000Z
DTEND:20260505T110000Z
LOCATION:
SUMMARY:vuelapluma - Vigo - Campaña de Teatro Escolar
DESCRIPTION: vuelapluma - Vigo - Campaña de Teatro Escolar
END:VEVENT
END:VCALENDAR