﻿BEGIN:VCALENDAR
VERSION:2.0
PRODID:-//eventon.com NONSGML v1.0//EN
BEGIN:VEVENT
UID:69ea1634f263c
DTSTAMP:20260423T125308
DTSTART:20260506T100000Z
DTEND:20260506T110000Z
LOCATION:
SUMMARY:vuelapluma - Vigo - Campaña de Teatro Escolar
DESCRIPTION: vuelapluma - Vigo - Campaña de Teatro Escolar
END:VEVENT
END:VCALENDAR