﻿BEGIN:VCALENDAR
VERSION:2.0
PRODID:-//eventon.com NONSGML v1.0//EN
BEGIN:VEVENT
UID:69ea168b38993
DTSTAMP:20260423T125435
DTSTART:20260507T120000Z
DTEND:20260507T130000Z
LOCATION:
SUMMARY:vuelapluma - Vigo - Campaña de Teatro Escolar
DESCRIPTION: vuelapluma - Vigo - Campaña de Teatro Escolar
END:VEVENT
END:VCALENDAR