﻿BEGIN:VCALENDAR
VERSION:2.0
PRODID:-//eventon.com NONSGML v1.0//EN
BEGIN:VEVENT
UID:69ea164912b99
DTSTAMP:20260423T125329
DTSTART:20260508T120000Z
DTEND:20260508T130000Z
LOCATION:
SUMMARY:vuelapluma - Vigo - Campaña de Teatro Escolar
DESCRIPTION: vuelapluma - Vigo - Campaña de Teatro Escolar
END:VEVENT
END:VCALENDAR