﻿BEGIN:VCALENDAR
VERSION:2.0
PRODID:-//eventon.com NONSGML v1.0//EN
BEGIN:VEVENT
UID:69ea16a4c5854
DTSTAMP:20260423T125500
DTSTART:20260515T120000Z
DTEND:20260515T130000Z
LOCATION:
SUMMARY:vuelapluma - A Coruña - Campaña de Teatro Escolar
DESCRIPTION: vuelapluma - A Coruña - Campaña de Teatro Escolar
END:VEVENT
END:VCALENDAR