﻿BEGIN:VCALENDAR
VERSION:2.0
PRODID:-//eventon.com NONSGML v1.0//EN
BEGIN:VEVENT
UID:69ea162395576
DTSTAMP:20260423T125251
DTSTART:20260515T100000Z
DTEND:20260515T110000Z
LOCATION:
SUMMARY:vuelapluma - A Coruña - Campaña de Teatro Escolar
DESCRIPTION: vuelapluma - A Coruña - Campaña de Teatro Escolar
END:VEVENT
END:VCALENDAR