﻿BEGIN:VCALENDAR
VERSION:2.0
PRODID:-//eventon.com NONSGML v1.0//EN
BEGIN:VEVENT
UID:69ea166f28d9f
DTSTAMP:20260423T125407
DTSTART:20260518T100000Z
DTEND:20260518T110000Z
LOCATION:
SUMMARY:BoBo - Teatro Arniches - Alicante - Campaña de Teatro Escolar
DESCRIPTION: BoBo - Teatro Arniches - Alicante - Campaña de Teatro Escolar
END:VEVENT
END:VCALENDAR