﻿BEGIN:VCALENDAR
VERSION:2.0
PRODID:-//eventon.com NONSGML v1.0//EN
BEGIN:VEVENT
UID:69ea17515228d
DTSTAMP:20260423T125753
DTSTART:20260518T120000Z
DTEND:20260518T130000Z
LOCATION:
SUMMARY:BoBo - Teatro Arniches - Alicante - Campaña de Teatro Escolar
DESCRIPTION: BoBo - Teatro Arniches - Alicante - Campaña de Teatro Escolar
END:VEVENT
END:VCALENDAR