﻿BEGIN:VCALENDAR
VERSION:2.0
PRODID:-//eventon.com NONSGML v1.0//EN
BEGIN:VEVENT
UID:69ea15b2b45e2
DTSTAMP:20260423T125058
DTSTART:20260519T100000Z
DTEND:20260519T110000Z
LOCATION:
SUMMARY:BoBo - La Línea de la Concepción - Campaña de Teatro Escolar
DESCRIPTION: BoBo - La Línea de la Concepción - Campaña de Teatro Escolar
END:VEVENT
END:VCALENDAR