﻿BEGIN:VCALENDAR
VERSION:2.0
PRODID:-//eventon.com NONSGML v1.0//EN
BEGIN:VEVENT
UID:69ea16a4b2022
DTSTAMP:20260423T125500
DTSTART:20260519T120000Z
DTEND:20260519T130000Z
LOCATION:
SUMMARY:BoBo - La Línea de la Concepción - Campaña de Teatro Escolar
DESCRIPTION: BoBo - La Línea de la Concepción - Campaña de Teatro Escolar
END:VEVENT
END:VCALENDAR