﻿BEGIN:VCALENDAR
VERSION:2.0
PRODID:-//eventon.com NONSGML v1.0//EN
BEGIN:VEVENT
UID:69ea1757deb70
DTSTAMP:20260423T125759
DTSTART:20260520T100000Z
DTEND:20260520T110000Z
LOCATION:
SUMMARY:BoBo - Valverde del Camino - Campaña de Teatro Escolar
DESCRIPTION: BoBo - Valverde del Camino - Campaña de Teatro Escolar
END:VEVENT
END:VCALENDAR