﻿BEGIN:VCALENDAR
VERSION:2.0
PRODID:-//eventon.com NONSGML v1.0//EN
BEGIN:VEVENT
UID:69ea17610705e
DTSTAMP:20260423T125809
DTSTART:20260520T120000Z
DTEND:20260520T130000Z
LOCATION:
SUMMARY:BoBo - Valverde del Camino - Campaña de Teatro Escolar
DESCRIPTION: BoBo - Valverde del Camino - Campaña de Teatro Escolar
END:VEVENT
END:VCALENDAR