﻿BEGIN:VCALENDAR
VERSION:2.0
PRODID:-//eventon.com NONSGML v1.0//EN
BEGIN:VEVENT
UID:69ea166fc5066
DTSTAMP:20260423T125407
DTSTART:20260526T100000Z
DTEND:20260526T110000Z
LOCATION:
SUMMARY:BoBo - El Ejido - Campaña de Teatro Escolar
DESCRIPTION: BoBo - El Ejido - Campaña de Teatro Escolar
END:VEVENT
END:VCALENDAR