﻿BEGIN:VCALENDAR
VERSION:2.0
PRODID:-//eventon.com NONSGML v1.0//EN
BEGIN:VEVENT
UID:69ea16dde0d09
DTSTAMP:20260423T125557
DTSTART:20260526T120000Z
DTEND:20260526T130000Z
LOCATION:
SUMMARY:BoBo - El Ejido - Campaña de Teatro Escolar
DESCRIPTION: BoBo - El Ejido - Campaña de Teatro Escolar
END:VEVENT
END:VCALENDAR