﻿BEGIN:VCALENDAR
VERSION:2.0
PRODID:-//eventon.com NONSGML v1.0//EN
BEGIN:VEVENT
UID:69ea16e33df7a
DTSTAMP:20260423T125603
DTSTART:20260524T190000Z
DTEND:20260526T200000Z
LOCATION:Mãozorra Espaço Cultural Estr. Mun. Norte\,  8650-452\,  Portugal
SUMMARY:VuelaPluma - festival ESTAR'26 - Vila do Bispo - Portugal
DESCRIPTION: VuelaPluma - festival ESTAR'26 - Vila do Bispo - Portugal
END:VEVENT
END:VCALENDAR