﻿BEGIN:VCALENDAR
VERSION:2.0
PRODID:-//eventon.com NONSGML v1.0//EN
BEGIN:VEVENT
UID:69ea1635a03f2
DTSTAMP:20260423T125309
DTSTART:20260529T190000Z
DTEND:20260529T200000Z
LOCATION:
SUMMARY:BoBo - Festival Los Títeres del Hidalgo - Alcázar de San Juan
DESCRIPTION: BoBo - Festival Los Títeres del Hidalgo - Alcázar de San Juan
END:VEVENT
END:VCALENDAR