﻿BEGIN:VCALENDAR
VERSION:2.0
PRODID:-//eventon.com NONSGML v1.0//EN
BEGIN:VEVENT
UID:69ea17003a7bd
DTSTAMP:20260423T125632
DTSTART:20260531T000000Z
DTEND:20260531T000000Z
LOCATION:
SUMMARY:BoBo - Abarán
DESCRIPTION: BoBo - Abarán
END:VEVENT
END:VCALENDAR