﻿BEGIN:VCALENDAR
VERSION:2.0
PRODID:-//eventon.com NONSGML v1.0//EN
BEGIN:VEVENT
UID:69ea17514b8aa
DTSTAMP:20260423T125753
DTSTART:20260606T200000Z
DTEND:20260606T210000Z
LOCATION:
SUMMARY:BoBo - El Toboso
DESCRIPTION: BoBo - El Toboso
END:VEVENT
END:VCALENDAR